BEGIN:VCALENDAR
VERSION:2.0
PRODID:-//Discover Hood River - ECPv6.15.16//NONSGML v1.0//EN
CALSCALE:GREGORIAN
METHOD:PUBLISH
X-ORIGINAL-URL:https://www.discoverhoodriver.com
X-WR-CALDESC:Events for Discover Hood River
REFRESH-INTERVAL;VALUE=DURATION:PT1H
X-Robots-Tag:noindex
X-PUBLISHED-TTL:PT1H
BEGIN:VTIMEZONE
TZID:UTC
BEGIN:STANDARD
TZOFFSETFROM:+0000
TZOFFSETTO:+0000
TZNAME:UTC
DTSTART:20240101T000000
END:STANDARD
END:VTIMEZONE
BEGIN:VEVENT
DTSTART;TZID=UTC:20250628T100000
DTEND;TZID=UTC:20250628T130000
DTSTAMP:20260421T160531
CREATED:20250622T205330Z
LAST-MODIFIED:20250622T205330Z
UID:10000282-1751104800-1751115600@www.discoverhoodriver.com
SUMMARY:Landscape and Waterfall Photography with Trails Diverged
DESCRIPTION:Come take a hike with Trails Diverged\, for a Landscape and Waterfall Photography session!  June 28\, 2025 at the Latourell Falls Trailhead.  Guide will be Greg Farris. \n  \n \nLocation Latourell Falls Trailhead: \n 
URL:https://www.discoverhoodriver.com/event/landscape-and-waterfall-photography-with-trails-diverged/
LOCATION:Latourell Falls Trailhead\, Corbett\, OR\, 97019\, United States
CATEGORIES:Hiking,Photography,Waterfall Hikes
ORGANIZER;CN="Trails Diverged":MAILTO:trailsdiverged@gmail.com
END:VEVENT
END:VCALENDAR